BEGIN:VCALENDAR
VERSION:2.0
PRODID:-//Bürgerstiftung Wetzlar - ECPv6.3.1//NONSGML v1.0//EN
CALSCALE:GREGORIAN
METHOD:PUBLISH
X-ORIGINAL-URL:https://buergerstiftung-wetzlar.de
X-WR-CALDESC:Veranstaltungen für Bürgerstiftung Wetzlar
REFRESH-INTERVAL;VALUE=DURATION:PT1H
X-Robots-Tag:noindex
X-PUBLISHED-TTL:PT1H
BEGIN:VTIMEZONE
TZID:Europe/Berlin
BEGIN:DAYLIGHT
TZOFFSETFROM:+0100
TZOFFSETTO:+0200
TZNAME:CEST
DTSTART:20240331T010000
END:DAYLIGHT
BEGIN:STANDARD
TZOFFSETFROM:+0200
TZOFFSETTO:+0100
TZNAME:CET
DTSTART:20241027T010000
END:STANDARD
END:VTIMEZONE
BEGIN:VEVENT
DTSTART;TZID=Europe/Berlin:20241126T183000
DTEND;TZID=Europe/Berlin:20241126T203000
DTSTAMP:20260420T224834
CREATED:20241105T105724Z
LAST-MODIFIED:20241105T105724Z
UID:934-1732645800-1732653000@buergerstiftung-wetzlar.de
SUMMARY:17. Öffentliches Stifterforum am 26. November 2024
DESCRIPTION:Einladung zum 17. Öffentlichen Stifterforum am 26. November 2024 um 18:30 Uhr in der Volkshochschule Wetzlar\, Bahnhofstr. 3\, 35576 Wetzlar. \nSehr geehrte Stifterinnen\, Stifter und Gäste\, \nin diesem Jahr sind wir in den neuen Räumlichkeiten der Volkshochschule Wetzlar in der Bahnhofstraße zu\nGast. Nach der Begrüßung durch den Leiter der VHS\, Dr. Timm C. Feld\, besteht die Möglichkeit\, das Haus\nund die Unterrichtsräume bei einer Führung kennenzulernen.\nGemäß der Satzung der Bürgerstiftung Wetzlar werden wir über unsere Aktivitäten und den Finanzstatus\nberichten.\nIm Anschluss besteht bei einem Glas Wein die Gelegenheit zum Austausch und zur Diskussion.\nDer Eintritt ist frei – die Bürgerstiftung bittet jedoch um Spenden zugunsten der Volkshochschule Wetzlar.\nSparkasse Wetzlar IBAN DE22 5155 0035 0002 0274 23\nVolksbank Mittelhessen IBAN DE33 5139 0000 0039 3871 07\nParkmöglichkeiten bestehen im Parkhaus an der VHS (kostenpflichtig). Der Übergang zur VHS befindet sich\nim 1. Stock\, der Empfang im Erdgeschoss. \nVielen Dank für Ihre Unterstützung! \nBürgerstiftung Wetzlar\ngez. Christian Rathe gez. Hans-Otto Kneip
URL:https://buergerstiftung-wetzlar.de/veranstaltung/17-oeffentliches-stifterforum-am-26-november-2024
LOCATION:VHS Wetzlar\, Bahnhofstr. 3\, Wetzlar\, 35576
ATTACH;FMTTYPE=image/jpeg:https://buergerstiftung-wetzlar.de/wp-content/uploads/2024/11/bbb.jpg
END:VEVENT
END:VCALENDAR