BEGIN:VCALENDAR
VERSION:2.0
PRODID:-//Bürgerstiftung Wetzlar - ECPv6.3.1//NONSGML v1.0//EN
CALSCALE:GREGORIAN
METHOD:PUBLISH
X-WR-CALNAME:Bürgerstiftung Wetzlar
X-ORIGINAL-URL:https://buergerstiftung-wetzlar.de
X-WR-CALDESC:Veranstaltungen für Bürgerstiftung Wetzlar
REFRESH-INTERVAL;VALUE=DURATION:PT1H
X-Robots-Tag:noindex
X-PUBLISHED-TTL:PT1H
BEGIN:VTIMEZONE
TZID:Europe/Berlin
BEGIN:DAYLIGHT
TZOFFSETFROM:+0100
TZOFFSETTO:+0200
TZNAME:CEST
DTSTART:20240331T010000
END:DAYLIGHT
BEGIN:STANDARD
TZOFFSETFROM:+0200
TZOFFSETTO:+0100
TZNAME:CET
DTSTART:20241027T010000
END:STANDARD
END:VTIMEZONE
BEGIN:VEVENT
DTSTART;TZID=Europe/Berlin:20240831T110000
DTEND;TZID=Europe/Berlin:20240831T150000
DTSTAMP:20260421T042121
CREATED:20240717T120143Z
LAST-MODIFIED:20240717T120143Z
UID:931-1725102000-1725116400@buergerstiftung-wetzlar.de
SUMMARY:6. Wetzlarer Bürger-Brunch am 31. August 2024 von 11:00 bis 15:00 Uhr
DESCRIPTION:Die Bürgerstiftung lädt zum 6. Wetzlarer Bürger-Brunch am Samstag\, 31. August 2024\, von 11.00 bis 15.00 Uhr auf den Schillerplatz in Wetzlar ein! \nWie auch in den Jahren zuvor\, konnten wir  unseren Oberbürgermeister Manfred Wagner als Schirmherr gewinnen\, der bestimmt auch gerne wieder für das passende Wetter sorgen wird! \nIm Vordergrund steht ein Picknick mit Familie\, Freunden und Kollegen für einen guten Zweck – denn die Bürgerstiftung Wetzlar fördert seit mehr als 16 Jahren vielfältige Aktivitäten aus den Bereichen Bildung\, Kultur\, Soziales und Pflege. Fördergelder in Höhe von über 250.000\,- € konnten bis jetzt in Wetzlar verteilt werden! \nTraditionell können die Tische exklusiv bei der Firma Glas Porzellan Gerlach GmbH in der Wetzlarer Altstadt\, Silhöfer Straße 32 gekauft werden! \nDort ist ein Übersichtsplan mit den Tischen\, die Sie für den geselligen Mittag an der Kastanie buchen können. Britta Butz und ihre Kolleginnen stehen mit Rat und Tat zur Verfügung\, um Ihnen die Tische zu verkaufen. \nWichtig! NUR BARZAHLUNG IST MÖGLICH!
URL:https://buergerstiftung-wetzlar.de/veranstaltung/6-wetzlarer-buerger-brunch-am-31-august-2024-von-1100-bis-1500-uhr
LOCATION:Schillerpatz 35578 Wetzlar
END:VEVENT
END:VCALENDAR