BEGIN:VCALENDAR
VERSION:2.0
PRODID:-//Bürgerstiftung Wetzlar - ECPv6.3.1//NONSGML v1.0//EN
CALSCALE:GREGORIAN
METHOD:PUBLISH
X-ORIGINAL-URL:https://buergerstiftung-wetzlar.de
X-WR-CALDESC:Veranstaltungen für Bürgerstiftung Wetzlar
REFRESH-INTERVAL;VALUE=DURATION:PT1H
X-Robots-Tag:noindex
X-PUBLISHED-TTL:PT1H
BEGIN:VTIMEZONE
TZID:Europe/Berlin
BEGIN:DAYLIGHT
TZOFFSETFROM:+0100
TZOFFSETTO:+0200
TZNAME:CEST
DTSTART:20230326T010000
END:DAYLIGHT
BEGIN:STANDARD
TZOFFSETFROM:+0200
TZOFFSETTO:+0100
TZNAME:CET
DTSTART:20231029T010000
END:STANDARD
END:VTIMEZONE
BEGIN:VEVENT
DTSTART;TZID=Europe/Berlin:20231122T190000
DTEND;TZID=Europe/Berlin:20231122T210000
DTSTAMP:20260421T200306
CREATED:20231102T125908Z
LAST-MODIFIED:20231102T125908Z
UID:914-1700679600-1700686800@buergerstiftung-wetzlar.de
SUMMARY:16. Öffentliches Stifterforum am 22. November 2023
DESCRIPTION:EINLADUNG zum 16. Öffentlichen Stifterforum am 22. November 2023 um 19.00 Uhr in der Theodor-Heuss-Schule Wetzlar\, Sportparkstraße 1\, 35578 Wetzlar. \nSehr geehrte Stifterinnen\, Stifter und Gäste\, \nin diesem Jahr wird die Theodor-Heuss-Schule am neuen Standort in der Spilburg eingeweiht.\nFrau Oberstudiendirektorin Benner wird uns begrüßen und eine Führung durch die neuen\nRäume anbieten.\nGemäß der Satzung der Bürgerstiftung Wetzlar werden wir über unsere Aktivitäten und den\nFinanzstatus berichten. \nIm Anschluss besteht bei einem Glas Wein die Gelegenheit zum Austausch und zur Diskussion. \nDer Eintritt ist frei – die Bürgerstiftung bittet jedoch um Spenden zugunsten der Theodor-\nHeuss-Schule.\nSparkasse Wetzlar IBAN DE 22 5155 0035 0002 0274 23\nVolksbank Mittelhessen IBAN DE 33 5139 0000 0039 3871 07 \nVielen Dank für Ihre Unterstützung! \nBürgerstiftung Wetzlar \ngez. Christian Rathe gez. Hans-Otto Kneip \n 
URL:https://buergerstiftung-wetzlar.de/veranstaltung/16-oeffentliches-stifterforum-am-22-november-2023
LOCATION:Theodor-Heuss-Schule Wetzlar\, Sportparkstraße 1\, Wetzlar\, 35578
ATTACH;FMTTYPE=image/png:https://buergerstiftung-wetzlar.de/wp-content/uploads/2023/11/Buergerstiftung-Einladung-zum-16.-Stifterforum-22.11.2023.png
END:VEVENT
END:VCALENDAR