BEGIN:VCALENDAR
VERSION:2.0
PRODID:-//Bürgerstiftung Wetzlar - ECPv6.3.1//NONSGML v1.0//EN
CALSCALE:GREGORIAN
METHOD:PUBLISH
X-WR-CALNAME:Bürgerstiftung Wetzlar
X-ORIGINAL-URL:https://buergerstiftung-wetzlar.de
X-WR-CALDESC:Veranstaltungen für Bürgerstiftung Wetzlar
REFRESH-INTERVAL;VALUE=DURATION:PT1H
X-Robots-Tag:noindex
X-PUBLISHED-TTL:PT1H
BEGIN:VTIMEZONE
TZID:Europe/Berlin
BEGIN:DAYLIGHT
TZOFFSETFROM:+0100
TZOFFSETTO:+0200
TZNAME:CEST
DTSTART:20220327T010000
END:DAYLIGHT
BEGIN:STANDARD
TZOFFSETFROM:+0200
TZOFFSETTO:+0100
TZNAME:CET
DTSTART:20221030T010000
END:STANDARD
END:VTIMEZONE
BEGIN:VEVENT
DTSTART;TZID=Europe/Berlin:20220928T183000
DTEND;TZID=Europe/Berlin:20220928T200000
DTSTAMP:20260422T171427
CREATED:20220913T104658Z
LAST-MODIFIED:20220913T104658Z
UID:898-1664389800-1664395200@buergerstiftung-wetzlar.de
SUMMARY:15. Öffentliches Stifterforum in der Goetheschule Wetzlar
DESCRIPTION:EINLADUNG \nzum 15. Öffentlichen Stifterforum \nam 28. September 2022 um 18.30 Uhr in der Goetheschule Wetzlar\nFrankfurter Straße 72\, 35578 Wetzlar \n  \nVerehrte Stifterinnen\, Stifter und Gäste\, \nnach zweieinhalb Jahren Bauzeit wurde die Goetheschule Wetzlar\, Hessens größtes\nOberstufengymnasium\, eingeweiht. \n72 Unterrichtsräume finden sich im Gebäude\, davon wurden 22 Räume für die\nnaturwissenschaftlichen und EDV Fächer eingerichtet. Die Goethe Schüler können auf 13.700\nQuadratmeter verteilt auf vier Etagen lernen. \nFrau Studiendirektorin Annette Kerkemayer wird uns begrüßen und eine Führung durch die\nnaturwissenschaftlichen und Physikräume anbieten. \nGemäß unserer Satzung werden wir auch über unsere Aktivitäten und den Finanzstatus\nberichten. Im Anschluss daran gibt es Gelegenheit zur Diskussion bei einem Glas Wein.\nDer Eintritt ist frei – die Bürgerstiftung bittet jedoch um Spenden zugunsten des Mint –\nProjekts der Goetheschule Wetzlar. \nBankverbindungen:\nSparkasse WZ: IBAN DE22 5155 0035 0002 0274 23\nVolksbank WZ: IBAN DE33 5139 0000 0039 3871 07 \n  \nWir freuen uns auf Ihre Teilnahme. \nBürgerstiftung Wetzlar \nDer Vorstand
URL:https://buergerstiftung-wetzlar.de/veranstaltung/15-oeffentliches-stifterforum-in-der-goetheschule-wetzlar
LOCATION:Goetheschule Wetzlar\, Frankfurter Straße 72\, Wetzlar\, 35578\, Germany
CATEGORIES:Veranstaltungen
ATTACH;FMTTYPE=image/png:https://buergerstiftung-wetzlar.de/wp-content/uploads/2022/09/Foto-Goetheschule-1.png
END:VEVENT
END:VCALENDAR