BEGIN:VCALENDAR
VERSION:2.0
PRODID:-//Bürgerstiftung Wetzlar - ECPv6.3.1//NONSGML v1.0//EN
CALSCALE:GREGORIAN
METHOD:PUBLISH
X-ORIGINAL-URL:https://buergerstiftung-wetzlar.de
X-WR-CALDESC:Veranstaltungen für Bürgerstiftung Wetzlar
REFRESH-INTERVAL;VALUE=DURATION:PT1H
X-Robots-Tag:noindex
X-PUBLISHED-TTL:PT1H
BEGIN:VTIMEZONE
TZID:Europe/Berlin
BEGIN:DAYLIGHT
TZOFFSETFROM:+0100
TZOFFSETTO:+0200
TZNAME:CEST
DTSTART:20220327T010000
END:DAYLIGHT
BEGIN:STANDARD
TZOFFSETFROM:+0200
TZOFFSETTO:+0100
TZNAME:CET
DTSTART:20221030T010000
END:STANDARD
END:VTIMEZONE
BEGIN:VEVENT
DTSTART;TZID=Europe/Berlin:20220903T110000
DTEND;TZID=Europe/Berlin:20220903T150000
DTSTAMP:20260422T134826
CREATED:20220721T162921Z
LAST-MODIFIED:20220721T162921Z
UID:886-1662202800-1662217200@buergerstiftung-wetzlar.de
SUMMARY:4. Wetzlarer Bürger-Brunch am 03. September 2022
DESCRIPTION:Die Bürgerstiftung lädt zum 4. Wetzlarer Bürger-Brunch am Samstag\, 03. September\n2022\, von 11.00 bis 15.00 Uhr auf den Schillerplatz in Wetzlar ein! \nNach 2 Jahren pandemiebedingter Pause geht es weiter … mit dem gemeinsamen\nBrunch unter der Kastanie … und traditionell konnten wir auch in diesem Jahr unsern\nOberbürgermeister Manfred Wagner als Schirmherr gewinnen\, der für das passende\nWetter sorgen wird!\nIm Vordergrund steht ein Picknick mit Familie\, Freunden und Kollegen für einen guten\nZweck – denn die Bürgerstiftung Wetzlar fördert seit fast 15 Jahren vielfältige Aktivitäten\naus den Bereichen Bildung\, Kultur\, Soziales und Pflege. Mittlerweile hat sie fast\n250.000\,- € Fördergelder in Wetzlar verteilt … und wie kann man Stifter werden …\nBürger-Stifter werden\, ist gar nicht schwer!\nStifter können alle Privatpersonen\, Vereine\, Firmen\, Körperschaften oder sonstige\nInstitutionen werden\, die einen Mindestbetrag zugunsten der „Bürgerstiftung Wetzlar“\neinzahlen. Wir freuen uns sehr\, über jede/jeden neue/n Stifter*in\, um auch weiterhin\nvielfältige Aktivitäten in Wetzlar zu fördern. Weitere Informationen dazu gibt es unter\nwww.buergerstiftung-wetzlar.de oder auch vor Ort beim Brunch. Die Bürgerstiftung\nWetzlar freut sich auf alle\, die die „gute Sache“ unterstützen. \nAuch in diesem Jahr ist die Anmeldung bei der Firma Glas Porzellan Gerlach GmbH\nin der Wetzlarer Altstadt\, Silhöfer Straße 32!\nDort liegt ein Übersichtsplan mit den Tischen aus\, die Sie buchen können. Britta Butz\nund ihre Kolleginnen werden Ihnen gerne helfen\, die Tische zu reservieren.\nWichtig! NUR BARZAHLUNG IST MÖGLICH! \nSie können einen 1/2 Tisch für 4 Personen für € 30\,00 oder einen ganzen Tisch für 8\nPersonen für € 50\,00 buchen. Darin enthalten ist gutes Wetter\, eine Brötchentüte der\nBäckerei Glässel und erstmals eine Flasche „Bürger-Brunch Cuvée Weiss Trocken“\nvom Pfälzer Weingut Oliver Zeter.\nAlles weitere\, was Sie sonst auf den Tisch zaubern möchten\, bringen sie selbst mit\, ob\nWurst\, Käse & Marmelade\, Geschirr & Besteck\, Sekt oder Selters\, Kaffee oder Tee\, …\nund zu guter Letzt\, eine originelle oder auch festliche Dekoration … denn die 3\nschönsten Tischdekorationen werden mit einem „Altstadt-Gutschein“ im Wert von €\n50\,00 ausgezeichnet. \nNatürlich wird auch in diesem Jahr wieder aus der „Bürgerstiftungs-Hütte“ Kaffee\, Wein\nund Sekt für den guten Zweck ausgeschenkt! \nAlso\, nichts wie hin in die Altstadt von Wetzlar und sich bei der Glas Porzellan Gerlach\nGmbH einen oder mehrere Tische für Familie\, Verein\, Freunde und Kollegen\nreservieren! Für die musikalische Umrahmung sorgt auch bei der 4. Auflage des\nBrunchs die Musikschule Wetzlar e.V.\, die mit vielfältigen Musik-Gruppen zum guten\nGelingen beitragen wird. \nUnd noch eine kleine Wetter-Info – der Bürger-Brunch findet bei jedem Wetter statt\, falls\ndoch unser OB nicht den richtigen Draht nach ganz oben hat …
URL:https://buergerstiftung-wetzlar.de/veranstaltung/4-wetzlarer-buerger-brunch-am-03-september-2022
LOCATION:Schillerpatz 35578 Wetzlar
END:VEVENT
END:VCALENDAR